BEGIN:VCALENDAR
VERSION:2.0
PRODID:-//Sand Hollow Resort - ECPv6.15.20//NONSGML v1.0//EN
CALSCALE:GREGORIAN
METHOD:PUBLISH
X-ORIGINAL-URL:https://sandhollowresort.com
X-WR-CALDESC:Events for Sand Hollow Resort
REFRESH-INTERVAL;VALUE=DURATION:PT1H
X-Robots-Tag:noindex
X-PUBLISHED-TTL:PT1H
BEGIN:VTIMEZONE
TZID:America/Denver
BEGIN:DAYLIGHT
TZOFFSETFROM:-0700
TZOFFSETTO:-0600
TZNAME:MDT
DTSTART:20230312T090000
END:DAYLIGHT
BEGIN:STANDARD
TZOFFSETFROM:-0600
TZOFFSETTO:-0700
TZNAME:MST
DTSTART:20231105T080000
END:STANDARD
BEGIN:DAYLIGHT
TZOFFSETFROM:-0700
TZOFFSETTO:-0600
TZNAME:MDT
DTSTART:20240310T090000
END:DAYLIGHT
BEGIN:STANDARD
TZOFFSETFROM:-0600
TZOFFSETTO:-0700
TZNAME:MST
DTSTART:20241103T080000
END:STANDARD
BEGIN:DAYLIGHT
TZOFFSETFROM:-0700
TZOFFSETTO:-0600
TZNAME:MDT
DTSTART:20250309T090000
END:DAYLIGHT
BEGIN:STANDARD
TZOFFSETFROM:-0600
TZOFFSETTO:-0700
TZNAME:MST
DTSTART:20251102T080000
END:STANDARD
END:VTIMEZONE
BEGIN:VEVENT
DTSTART;TZID=America/Denver:20240531T193000
DTEND;TZID=America/Denver:20240531T213000
DTSTAMP:20260425T064547
CREATED:20240320T212432Z
LAST-MODIFIED:20250219T204850Z
UID:10000157-1717183800-1717191000@sandhollowresort.com
SUMMARY:Dog N Butterfly - A Tribute to Heart
DESCRIPTION:Sky Fest 2025 – Glow Dinner				\n				\n				\n				\n					\n		\n			February 8\n\n	\n\n	 @ \n\n\n6:00 pm\n\n		\n\n\n\n	\n	 - \n\n7:00 pm\n\n\n\n	\n				\n				\n				\n				\n							\n			\n						\n		\n						\n				\n				\n				\n									What is a Glow Dinner?The Glow Dinner is a unique experience where you can enjoy a delicious BBQ buffet while witnessing the magic of hot air balloons illuminating the night sky. The “glow” occurs as the balloons remain tethered to the ground\, with their burners lighting up the vibrant colors of the balloon fabric\, creating a breathtaking display. It’s the perfect way to spend a Saturday night surrounded by vibrant colors and great food.   Dinner Time SlotsChoose the dinner time that best suits your schedule! Each time slot is designed to enhance your Sky Fest experience. Depending on your selection\, you’ll either enjoy dinner before the mesmerizing glow or immerse yourself in the glow first and then savor your dinner.The glow is expected to begin at 6:30 PM and last around 50-60 minutes\, but its duration may vary depending on weather conditions. 								\n				\n					\n				\n		\n					\n		\n				\n				\n									Policies Event Cancellation PolicyIf an event is canceled\, no action is required to obtain a refund of the base ticket price. Refunds will be issued to the original method of payment used at the time of purchase. Please note that fees or surcharges collected by the ticket agent are subject to their refund policy and not the responsibility of the event provider/host. Weather Cancellation PolicyIf an event is postponed\, rescheduled\, or moved due to weather or other necessary reasons\, your tickets will remain valid for the new date. A notification outlining available refund options will be sent to the email address used for the purchase. Visit our website at www.sandhollowresort.com for updates on your event status and options. Ticket Resale & Transfer PolicyTickets are strictly non-transferable and cannot be resold. Unauthorized resale or transfer of tickets may result in cancellation without refund or denial of entry to the event. Refund PolicyBefore purchasing tickets\, carefully review your event date and time. All ticket sales are final. Under limited circumstances\, you may request a ticket transfer to another event. Requests must be made at least 24 hours before the start of the ticketed event. For inquiries\, contact events@sandhollowresorts.com. 								\n				\n				\n		\n				\n				\n					\n	\n				\n				\n				\n				\n					\n				\n				\n	\n			\n					\n	\n	\n	\n\n\n\n\n\n\n\n\n\n\n	\n					\n						\n	 \n\n\n	\n	 \n\n\n\n	\n		\n	\n				\n				\n				\n				\n							\n							\n					\n						Facebook-f\n											\n				\n							\n					\n						Youtube\n											\n				\n							\n					\n						Instagram
URL:https://sandhollowresort.com/event/dog-n-butterfly-a-tribute-to-heart/
CATEGORIES:EVENT CATEGORY
ATTACH;FMTTYPE=image/png:https://sandhollowresort.com/wp-content/uploads/2024/03/Dog-N-Butterfly-Banner.png
END:VEVENT
BEGIN:VEVENT
DTSTART;TZID=America/Denver:20240517T193000
DTEND;TZID=America/Denver:20240517T213000
DTSTAMP:20260425T064548
CREATED:20240320T212326Z
LAST-MODIFIED:20250527T134520Z
UID:10000156-1715974200-1715981400@sandhollowresort.com
SUMMARY:Nirvana Mania "the Tribute"
DESCRIPTION:Sky Fest 2025 – Glow Dinner				\n				\n				\n				\n					\n		\n			February 8\n\n	\n\n	 @ \n\n\n6:00 pm\n\n		\n\n\n\n	\n	 - \n\n7:00 pm\n\n\n\n	\n				\n				\n				\n				\n							\n			\n						\n		\n						\n				\n				\n				\n									What is a Glow Dinner?The Glow Dinner is a unique experience where you can enjoy a delicious BBQ buffet while witnessing the magic of hot air balloons illuminating the night sky. The “glow” occurs as the balloons remain tethered to the ground\, with their burners lighting up the vibrant colors of the balloon fabric\, creating a breathtaking display. It’s the perfect way to spend a Saturday night surrounded by vibrant colors and great food.   Dinner Time SlotsChoose the dinner time that best suits your schedule! Each time slot is designed to enhance your Sky Fest experience. Depending on your selection\, you’ll either enjoy dinner before the mesmerizing glow or immerse yourself in the glow first and then savor your dinner.The glow is expected to begin at 6:30 PM and last around 50-60 minutes\, but its duration may vary depending on weather conditions. 								\n				\n					\n				\n		\n					\n		\n				\n				\n									Policies Event Cancellation PolicyIf an event is canceled\, no action is required to obtain a refund of the base ticket price. Refunds will be issued to the original method of payment used at the time of purchase. Please note that fees or surcharges collected by the ticket agent are subject to their refund policy and not the responsibility of the event provider/host. Weather Cancellation PolicyIf an event is postponed\, rescheduled\, or moved due to weather or other necessary reasons\, your tickets will remain valid for the new date. A notification outlining available refund options will be sent to the email address used for the purchase. Visit our website at www.sandhollowresort.com for updates on your event status and options. Ticket Resale & Transfer PolicyTickets are strictly non-transferable and cannot be resold. Unauthorized resale or transfer of tickets may result in cancellation without refund or denial of entry to the event. Refund PolicyBefore purchasing tickets\, carefully review your event date and time. All ticket sales are final. Under limited circumstances\, you may request a ticket transfer to another event. Requests must be made at least 24 hours before the start of the ticketed event. For inquiries\, contact events@sandhollowresorts.com. 								\n				\n				\n		\n				\n				\n					\n	\n				\n				\n				\n				\n					\n				\n				\n	\n			\n					\n	\n	\n	\n\n\n\n\n\n\n\n\n\n\n	\n					\n						\n	 \n\n\n	\n	 \n\n\n\n	\n		\n	\n				\n				\n				\n				\n							\n							\n					\n						Facebook-f\n											\n				\n							\n					\n						Youtube\n											\n				\n							\n					\n						Instagram
URL:https://sandhollowresort.com/event/nirvana-mania-the-tribute/
CATEGORIES:EVENT CATEGORY
ATTACH;FMTTYPE=image/png:https://sandhollowresort.com/wp-content/uploads/2024/03/Nirvana-Mania-Banner.png
END:VEVENT
BEGIN:VEVENT
DTSTART;TZID=America/Denver:20240419T183000
DTEND;TZID=America/Denver:20240419T210000
DTSTAMP:20260425T064548
CREATED:20240320T212211Z
LAST-MODIFIED:20250527T135042Z
UID:10000155-1713551400-1713560400@sandhollowresort.com
SUMMARY:Radio JRNY - A Tribute to Journey
DESCRIPTION:Sky Fest 2025 – Glow Dinner				\n				\n				\n				\n					\n		\n			February 8\n\n	\n\n	 @ \n\n\n6:00 pm\n\n		\n\n\n\n	\n	 - \n\n7:00 pm\n\n\n\n	\n				\n				\n				\n				\n							\n			\n						\n		\n						\n				\n				\n				\n									What is a Glow Dinner?The Glow Dinner is a unique experience where you can enjoy a delicious BBQ buffet while witnessing the magic of hot air balloons illuminating the night sky. The “glow” occurs as the balloons remain tethered to the ground\, with their burners lighting up the vibrant colors of the balloon fabric\, creating a breathtaking display. It’s the perfect way to spend a Saturday night surrounded by vibrant colors and great food.   Dinner Time SlotsChoose the dinner time that best suits your schedule! Each time slot is designed to enhance your Sky Fest experience. Depending on your selection\, you’ll either enjoy dinner before the mesmerizing glow or immerse yourself in the glow first and then savor your dinner.The glow is expected to begin at 6:30 PM and last around 50-60 minutes\, but its duration may vary depending on weather conditions. 								\n				\n					\n				\n		\n					\n		\n				\n				\n									Policies Event Cancellation PolicyIf an event is canceled\, no action is required to obtain a refund of the base ticket price. Refunds will be issued to the original method of payment used at the time of purchase. Please note that fees or surcharges collected by the ticket agent are subject to their refund policy and not the responsibility of the event provider/host. Weather Cancellation PolicyIf an event is postponed\, rescheduled\, or moved due to weather or other necessary reasons\, your tickets will remain valid for the new date. A notification outlining available refund options will be sent to the email address used for the purchase. Visit our website at www.sandhollowresort.com for updates on your event status and options. Ticket Resale & Transfer PolicyTickets are strictly non-transferable and cannot be resold. Unauthorized resale or transfer of tickets may result in cancellation without refund or denial of entry to the event. Refund PolicyBefore purchasing tickets\, carefully review your event date and time. All ticket sales are final. Under limited circumstances\, you may request a ticket transfer to another event. Requests must be made at least 24 hours before the start of the ticketed event. For inquiries\, contact events@sandhollowresorts.com. 								\n				\n				\n		\n				\n				\n					\n	\n				\n				\n				\n				\n					\n				\n				\n	\n			\n					\n	\n	\n	\n\n\n\n\n\n\n\n\n\n\n	\n					\n						\n	 \n\n\n	\n	 \n\n\n\n	\n		\n	\n				\n				\n				\n				\n							\n							\n					\n						Facebook-f\n											\n				\n							\n					\n						Youtube\n											\n				\n							\n					\n						Instagram
URL:https://sandhollowresort.com/event/radio-jrny-a-tribute-to-journey/
CATEGORIES:EVENT CATEGORY
ATTACH;FMTTYPE=image/png:https://sandhollowresort.com/wp-content/uploads/2024/03/Radio-JRNY-Banner.png
END:VEVENT
BEGIN:VEVENT
DTSTART;TZID=America/Denver:20240223T210000
DTEND;TZID=America/Denver:20240223T223000
DTSTAMP:20260425T064548
CREATED:20240216T220212Z
LAST-MODIFIED:20250220T144253Z
UID:10000134-1708722000-1708727400@sandhollowresort.com
SUMMARY:Comedy Night - Featuring Pete Jr.
DESCRIPTION:Sky Fest 2025 – Glow Dinner				\n				\n				\n				\n					\n		\n			February 8\n\n	\n\n	 @ \n\n\n6:00 pm\n\n		\n\n\n\n	\n	 - \n\n7:00 pm\n\n\n\n	\n				\n				\n				\n				\n							\n			\n						\n		\n						\n				\n				\n				\n									What is a Glow Dinner?The Glow Dinner is a unique experience where you can enjoy a delicious BBQ buffet while witnessing the magic of hot air balloons illuminating the night sky. The “glow” occurs as the balloons remain tethered to the ground\, with their burners lighting up the vibrant colors of the balloon fabric\, creating a breathtaking display. It’s the perfect way to spend a Saturday night surrounded by vibrant colors and great food.   Dinner Time SlotsChoose the dinner time that best suits your schedule! Each time slot is designed to enhance your Sky Fest experience. Depending on your selection\, you’ll either enjoy dinner before the mesmerizing glow or immerse yourself in the glow first and then savor your dinner.The glow is expected to begin at 6:30 PM and last around 50-60 minutes\, but its duration may vary depending on weather conditions. 								\n				\n					\n				\n		\n					\n		\n				\n				\n									Policies Event Cancellation PolicyIf an event is canceled\, no action is required to obtain a refund of the base ticket price. Refunds will be issued to the original method of payment used at the time of purchase. Please note that fees or surcharges collected by the ticket agent are subject to their refund policy and not the responsibility of the event provider/host. Weather Cancellation PolicyIf an event is postponed\, rescheduled\, or moved due to weather or other necessary reasons\, your tickets will remain valid for the new date. A notification outlining available refund options will be sent to the email address used for the purchase. Visit our website at www.sandhollowresort.com for updates on your event status and options. Ticket Resale & Transfer PolicyTickets are strictly non-transferable and cannot be resold. Unauthorized resale or transfer of tickets may result in cancellation without refund or denial of entry to the event. Refund PolicyBefore purchasing tickets\, carefully review your event date and time. All ticket sales are final. Under limited circumstances\, you may request a ticket transfer to another event. Requests must be made at least 24 hours before the start of the ticketed event. For inquiries\, contact events@sandhollowresorts.com. 								\n				\n				\n		\n				\n				\n					\n	\n				\n				\n				\n				\n					\n				\n				\n	\n			\n					\n	\n	\n	\n\n\n\n\n\n\n\n\n\n\n	\n					\n						\n	 \n\n\n	\n	 \n\n\n\n	\n		\n	\n				\n				\n				\n				\n							\n							\n					\n						Facebook-f\n											\n				\n							\n					\n						Youtube\n											\n				\n							\n					\n						Instagram
URL:https://sandhollowresort.com/event/comedy-night-featuring-pete-jr/
ATTACH;FMTTYPE=image/png:https://sandhollowresort.com/wp-content/uploads/2024/02/Website-Image.png
END:VEVENT
BEGIN:VEVENT
DTSTART;TZID=America/Denver:20240203T174500
DTEND;TZID=America/Denver:20240203T191500
DTSTAMP:20260425T064548
CREATED:20240110T214109Z
LAST-MODIFIED:20250527T135058Z
UID:10000133-1706982300-1706987700@sandhollowresort.com
SUMMARY:Sky Fest 2024: Glow Dinner
DESCRIPTION:Sky Fest 2025 – Glow Dinner				\n				\n				\n				\n					\n		\n			February 8\n\n	\n\n	 @ \n\n\n6:00 pm\n\n		\n\n\n\n	\n	 - \n\n7:00 pm\n\n\n\n	\n				\n				\n				\n				\n							\n			\n						\n		\n						\n				\n				\n				\n									What is a Glow Dinner?The Glow Dinner is a unique experience where you can enjoy a delicious BBQ buffet while witnessing the magic of hot air balloons illuminating the night sky. The “glow” occurs as the balloons remain tethered to the ground\, with their burners lighting up the vibrant colors of the balloon fabric\, creating a breathtaking display. It’s the perfect way to spend a Saturday night surrounded by vibrant colors and great food.   Dinner Time SlotsChoose the dinner time that best suits your schedule! Each time slot is designed to enhance your Sky Fest experience. Depending on your selection\, you’ll either enjoy dinner before the mesmerizing glow or immerse yourself in the glow first and then savor your dinner.The glow is expected to begin at 6:30 PM and last around 50-60 minutes\, but its duration may vary depending on weather conditions. 								\n				\n					\n				\n		\n					\n		\n				\n				\n									Policies Event Cancellation PolicyIf an event is canceled\, no action is required to obtain a refund of the base ticket price. Refunds will be issued to the original method of payment used at the time of purchase. Please note that fees or surcharges collected by the ticket agent are subject to their refund policy and not the responsibility of the event provider/host. Weather Cancellation PolicyIf an event is postponed\, rescheduled\, or moved due to weather or other necessary reasons\, your tickets will remain valid for the new date. A notification outlining available refund options will be sent to the email address used for the purchase. Visit our website at www.sandhollowresort.com for updates on your event status and options. Ticket Resale & Transfer PolicyTickets are strictly non-transferable and cannot be resold. Unauthorized resale or transfer of tickets may result in cancellation without refund or denial of entry to the event. Refund PolicyBefore purchasing tickets\, carefully review your event date and time. All ticket sales are final. Under limited circumstances\, you may request a ticket transfer to another event. Requests must be made at least 24 hours before the start of the ticketed event. For inquiries\, contact events@sandhollowresorts.com. 								\n				\n				\n		\n				\n				\n					\n	\n				\n				\n				\n				\n					\n				\n				\n	\n			\n					\n	\n	\n	\n\n\n\n\n\n\n\n\n\n\n	\n					\n						\n	 \n\n\n	\n	 \n\n\n\n	\n		\n	\n				\n				\n				\n				\n							\n							\n					\n						Facebook-f\n											\n				\n							\n					\n						Youtube\n											\n				\n							\n					\n						Instagram
URL:https://sandhollowresort.com/event/sky-fest-2024-glow-dinner/
ATTACH;FMTTYPE=image/png:https://sandhollowresort.com/wp-content/uploads/2024/01/Sky-Fest-2024-Glow-Dinner-Flyer.png
END:VEVENT
BEGIN:VEVENT
DTSTART;TZID=America/Denver:20240203T070000
DTEND;TZID=America/Denver:20240203T100000
DTSTAMP:20260425T064548
CREATED:20240109T012143Z
LAST-MODIFIED:20250527T135108Z
UID:10000132-1706943600-1706954400@sandhollowresort.com
SUMMARY:Sky Fest 2024 - Parking Pass
DESCRIPTION:Sky Fest 2025 – Glow Dinner				\n				\n				\n				\n					\n		\n			February 8\n\n	\n\n	 @ \n\n\n6:00 pm\n\n		\n\n\n\n	\n	 - \n\n7:00 pm\n\n\n\n	\n				\n				\n				\n				\n							\n			\n						\n		\n						\n				\n				\n				\n									What is a Glow Dinner?The Glow Dinner is a unique experience where you can enjoy a delicious BBQ buffet while witnessing the magic of hot air balloons illuminating the night sky. The “glow” occurs as the balloons remain tethered to the ground\, with their burners lighting up the vibrant colors of the balloon fabric\, creating a breathtaking display. It’s the perfect way to spend a Saturday night surrounded by vibrant colors and great food.   Dinner Time SlotsChoose the dinner time that best suits your schedule! Each time slot is designed to enhance your Sky Fest experience. Depending on your selection\, you’ll either enjoy dinner before the mesmerizing glow or immerse yourself in the glow first and then savor your dinner.The glow is expected to begin at 6:30 PM and last around 50-60 minutes\, but its duration may vary depending on weather conditions. 								\n				\n					\n				\n		\n					\n		\n				\n				\n									Policies Event Cancellation PolicyIf an event is canceled\, no action is required to obtain a refund of the base ticket price. Refunds will be issued to the original method of payment used at the time of purchase. Please note that fees or surcharges collected by the ticket agent are subject to their refund policy and not the responsibility of the event provider/host. Weather Cancellation PolicyIf an event is postponed\, rescheduled\, or moved due to weather or other necessary reasons\, your tickets will remain valid for the new date. A notification outlining available refund options will be sent to the email address used for the purchase. Visit our website at www.sandhollowresort.com for updates on your event status and options. Ticket Resale & Transfer PolicyTickets are strictly non-transferable and cannot be resold. Unauthorized resale or transfer of tickets may result in cancellation without refund or denial of entry to the event. Refund PolicyBefore purchasing tickets\, carefully review your event date and time. All ticket sales are final. Under limited circumstances\, you may request a ticket transfer to another event. Requests must be made at least 24 hours before the start of the ticketed event. For inquiries\, contact events@sandhollowresorts.com. 								\n				\n				\n		\n				\n				\n					\n	\n				\n				\n				\n				\n					\n				\n				\n	\n			\n					\n	\n	\n	\n\n\n\n\n\n\n\n\n\n\n	\n					\n						\n	 \n\n\n	\n	 \n\n\n\n	\n		\n	\n				\n				\n				\n				\n							\n							\n					\n						Facebook-f\n											\n				\n							\n					\n						Youtube\n											\n				\n							\n					\n						Instagram
URL:https://sandhollowresort.com/event/sky-fest-2024-parking-pass/
ATTACH;FMTTYPE=image/png:https://sandhollowresort.com/wp-content/uploads/2024/01/Sky-Fest-2024-Parking-Pass-Flyer.png
END:VEVENT
BEGIN:VEVENT
DTSTART;TZID=America/Denver:20240119T200000
DTEND;TZID=America/Denver:20240119T213000
DTSTAMP:20260425T064548
CREATED:20240104T181602Z
LAST-MODIFIED:20250218T220126Z
UID:10000131-1705694400-1705699800@sandhollowresort.com
SUMMARY:Comedy Night - Featuring Local Comedian Dustin Anderson
DESCRIPTION:Sky Fest 2025 – Glow Dinner				\n				\n				\n				\n					\n		\n			February 8\n\n	\n\n	 @ \n\n\n6:00 pm\n\n		\n\n\n\n	\n	 - \n\n7:00 pm\n\n\n\n	\n				\n				\n				\n				\n							\n			\n						\n		\n						\n				\n				\n				\n									What is a Glow Dinner?The Glow Dinner is a unique experience where you can enjoy a delicious BBQ buffet while witnessing the magic of hot air balloons illuminating the night sky. The “glow” occurs as the balloons remain tethered to the ground\, with their burners lighting up the vibrant colors of the balloon fabric\, creating a breathtaking display. It’s the perfect way to spend a Saturday night surrounded by vibrant colors and great food.   Dinner Time SlotsChoose the dinner time that best suits your schedule! Each time slot is designed to enhance your Sky Fest experience. Depending on your selection\, you’ll either enjoy dinner before the mesmerizing glow or immerse yourself in the glow first and then savor your dinner.The glow is expected to begin at 6:30 PM and last around 50-60 minutes\, but its duration may vary depending on weather conditions. 								\n				\n					\n				\n		\n					\n		\n				\n				\n									Policies Event Cancellation PolicyIf an event is canceled\, no action is required to obtain a refund of the base ticket price. Refunds will be issued to the original method of payment used at the time of purchase. Please note that fees or surcharges collected by the ticket agent are subject to their refund policy and not the responsibility of the event provider/host. Weather Cancellation PolicyIf an event is postponed\, rescheduled\, or moved due to weather or other necessary reasons\, your tickets will remain valid for the new date. A notification outlining available refund options will be sent to the email address used for the purchase. Visit our website at www.sandhollowresort.com for updates on your event status and options. Ticket Resale & Transfer PolicyTickets are strictly non-transferable and cannot be resold. Unauthorized resale or transfer of tickets may result in cancellation without refund or denial of entry to the event. Refund PolicyBefore purchasing tickets\, carefully review your event date and time. All ticket sales are final. Under limited circumstances\, you may request a ticket transfer to another event. Requests must be made at least 24 hours before the start of the ticketed event. For inquiries\, contact events@sandhollowresorts.com. 								\n				\n				\n		\n				\n				\n					\n	\n				\n				\n				\n				\n					\n				\n				\n	\n			\n					\n	\n	\n	\n\n\n\n\n\n\n\n\n\n\n	\n					\n						\n	 \n\n\n	\n	 \n\n\n\n	\n		\n	\n				\n				\n				\n				\n							\n							\n					\n						Facebook-f\n											\n				\n							\n					\n						Youtube\n											\n				\n							\n					\n						Instagram
URL:https://sandhollowresort.com/event/comedy-night-featuring-local-comedian-dustin-anderson/
ATTACH;FMTTYPE=image/png:https://sandhollowresort.com/wp-content/uploads/2024/01/Comedy-Night-Dustin-Anderson.png
END:VEVENT
END:VCALENDAR