BEGIN:VCALENDAR
VERSION:2.0
PRODID:-//Sand Hollow Resort - ECPv6.15.20//NONSGML v1.0//EN
CALSCALE:GREGORIAN
METHOD:PUBLISH
X-WR-CALNAME:Sand Hollow Resort
X-ORIGINAL-URL:https://sandhollowresort.com
X-WR-CALDESC:Events for Sand Hollow Resort
REFRESH-INTERVAL;VALUE=DURATION:PT1H
X-Robots-Tag:noindex
X-PUBLISHED-TTL:PT1H
BEGIN:VTIMEZONE
TZID:America/Denver
BEGIN:DAYLIGHT
TZOFFSETFROM:-0700
TZOFFSETTO:-0600
TZNAME:MDT
DTSTART:20250309T090000
END:DAYLIGHT
BEGIN:STANDARD
TZOFFSETFROM:-0600
TZOFFSETTO:-0700
TZNAME:MST
DTSTART:20251102T080000
END:STANDARD
BEGIN:DAYLIGHT
TZOFFSETFROM:-0700
TZOFFSETTO:-0600
TZNAME:MDT
DTSTART:20260308T090000
END:DAYLIGHT
BEGIN:STANDARD
TZOFFSETFROM:-0600
TZOFFSETTO:-0700
TZNAME:MST
DTSTART:20261101T080000
END:STANDARD
BEGIN:DAYLIGHT
TZOFFSETFROM:-0700
TZOFFSETTO:-0600
TZNAME:MDT
DTSTART:20270314T090000
END:DAYLIGHT
BEGIN:STANDARD
TZOFFSETFROM:-0600
TZOFFSETTO:-0700
TZNAME:MST
DTSTART:20271107T080000
END:STANDARD
END:VTIMEZONE
BEGIN:VEVENT
DTSTART;TZID=America/Denver:20260501T193000
DTEND;TZID=America/Denver:20260501T210000
DTSTAMP:20260424T042119
CREATED:20260318T153003Z
LAST-MODIFIED:20260422T221458Z
UID:10001285-1777663800-1777669200@sandhollowresort.com
SUMMARY:CSN Express: Tribute to Crosby\, Stills\, and Nash as well as Neil Young and Joni Mitchell
DESCRIPTION:100 Hole 2026 Golf Tournament				\n				\n				\n				\n					\n		\n			June 21\n\n		\n	\n	 - \n\n	June 22\n\n	\n				\n				\n				\n				\n							\n			\n						\n		\n						\n				\n				\n				\n									Join us for the 2026 Sand Hollow Resort 100 Hole Tournament! The tournament will take place on Sunday\, June 21st and on Monday\, June 22nd.  								\n				\n				\n				\n									6am Shotgun Start$550 per player\, 2 player teams\, Shamble formatContest HolesBreakfast\, Lunch\, Dinner includedUse code 100HOLES at checkout for 20% off your entire stay with the resort								\n				\n				\n				\n									Cancellations accepted up to June 21st. ($25 processing fee will apply on all refunded cancellations). No refunds for cancellations after 15th.								\n				\n				\n				\n									To join the waitlist\, please call the Pro Shop: 435-656-4653 								\n				\n					\n				\n		\n		\n				\n				\n									Sign Up Today:
URL:https://sandhollowresort.com/event/csn-express-tribute-to-crosby-stills-and-nash-as-well-as-neil-young-and-joni-mitchell/
LOCATION:The Rock Bowl at Sand Hollow Resort\, 5662 W Clubhouse Dr. Hurricane\, UT 84737\, Hurricane\, UT\, 84737
CATEGORIES:Concert
ATTACH;FMTTYPE=image/jpeg:https://sandhollowresort.com/wp-content/uploads/2026/03/CSN-Tribute.jpg
ORGANIZER;CN="Sand Hollow Resort":MAILTO:hello@sandhollowresorts.com
GEO:37.112349;-113.411701
X-APPLE-STRUCTURED-LOCATION;VALUE=URI;X-ADDRESS=The Rock Bowl at Sand Hollow Resort 5662 W Clubhouse Dr. Hurricane UT 84737 Hurricane UT 84737;X-APPLE-RADIUS=500;X-TITLE=5662 W Clubhouse Dr. Hurricane\, UT 84737:geo:-113.411701,37.112349
END:VEVENT
BEGIN:VEVENT
DTSTART;TZID=America/Denver:20260508T193000
DTEND;TZID=America/Denver:20260508T210000
DTSTAMP:20260424T042119
CREATED:20260318T204017Z
LAST-MODIFIED:20260422T221443Z
UID:10001286-1778268600-1778274000@sandhollowresort.com
SUMMARY:A Tribute to Reba McEntire starring Corrie Sachs
DESCRIPTION:100 Hole 2026 Golf Tournament				\n				\n				\n				\n					\n		\n			June 21\n\n		\n	\n	 - \n\n	June 22\n\n	\n				\n				\n				\n				\n							\n			\n						\n		\n						\n				\n				\n				\n									Join us for the 2026 Sand Hollow Resort 100 Hole Tournament! The tournament will take place on Sunday\, June 21st and on Monday\, June 22nd.  								\n				\n				\n				\n									6am Shotgun Start$550 per player\, 2 player teams\, Shamble formatContest HolesBreakfast\, Lunch\, Dinner includedUse code 100HOLES at checkout for 20% off your entire stay with the resort								\n				\n				\n				\n									Cancellations accepted up to June 21st. ($25 processing fee will apply on all refunded cancellations). No refunds for cancellations after 15th.								\n				\n				\n				\n									To join the waitlist\, please call the Pro Shop: 435-656-4653 								\n				\n					\n				\n		\n		\n				\n				\n									Sign Up Today:
URL:https://sandhollowresort.com/event/a-tribute-to-reba-mcentire-starring-corrie-sachs/
LOCATION:The Rock Bowl at Sand Hollow Resort\, 5662 W Clubhouse Dr. Hurricane\, UT 84737\, Hurricane\, UT\, 84737
CATEGORIES:Concert
ATTACH;FMTTYPE=image/jpeg:https://sandhollowresort.com/wp-content/uploads/2026/03/Poster-Corrie-as-Reba-Landscape-Mode.jpg
ORGANIZER;CN="Sand Hollow Resort":MAILTO:hello@sandhollowresorts.com
GEO:37.112349;-113.411701
X-APPLE-STRUCTURED-LOCATION;VALUE=URI;X-ADDRESS=The Rock Bowl at Sand Hollow Resort 5662 W Clubhouse Dr. Hurricane UT 84737 Hurricane UT 84737;X-APPLE-RADIUS=500;X-TITLE=5662 W Clubhouse Dr. Hurricane\, UT 84737:geo:-113.411701,37.112349
END:VEVENT
BEGIN:VEVENT
DTSTART;TZID=America/Denver:20260510T070000
DTEND;TZID=America/Denver:20260510T150000
DTSTAMP:20260424T042119
CREATED:20260415T182355Z
LAST-MODIFIED:20260423T212430Z
UID:10001294-1778396400-1778425200@sandhollowresort.com
SUMMARY:Mother's Day Brunch
DESCRIPTION:100 Hole 2026 Golf Tournament				\n				\n				\n				\n					\n		\n			June 21\n\n		\n	\n	 - \n\n	June 22\n\n	\n				\n				\n				\n				\n							\n			\n						\n		\n						\n				\n				\n				\n									Join us for the 2026 Sand Hollow Resort 100 Hole Tournament! The tournament will take place on Sunday\, June 21st and on Monday\, June 22nd.  								\n				\n				\n				\n									6am Shotgun Start$550 per player\, 2 player teams\, Shamble formatContest HolesBreakfast\, Lunch\, Dinner includedUse code 100HOLES at checkout for 20% off your entire stay with the resort								\n				\n				\n				\n									Cancellations accepted up to June 21st. ($25 processing fee will apply on all refunded cancellations). No refunds for cancellations after 15th.								\n				\n				\n				\n									To join the waitlist\, please call the Pro Shop: 435-656-4653 								\n				\n					\n				\n		\n		\n				\n				\n									Sign Up Today:
URL:https://sandhollowresort.com/event/mothers-day-brunch-2026/
LOCATION:The Grille at Sand Hollow Resort\, 5662 W Clubhouse Dr.\, Hurricane\, UT\, 84737
ATTACH;FMTTYPE=image/jpeg:https://sandhollowresort.com/wp-content/uploads/2026/04/Mothers-Day-Brunch-Web-Image-2026-1.jpg
ORGANIZER;CN="Sand Hollow Resort":MAILTO:hello@sandhollowresorts.com
END:VEVENT
BEGIN:VEVENT
DTSTART;TZID=America/Denver:20260515T193000
DTEND;TZID=America/Denver:20260515T210000
DTSTAMP:20260424T042119
CREATED:20260318T212315Z
LAST-MODIFIED:20260422T221509Z
UID:10001287-1778873400-1778878800@sandhollowresort.com
SUMMARY:Serpentine Fire: A Tribute to Earth Wind and Fire
DESCRIPTION:100 Hole 2026 Golf Tournament				\n				\n				\n				\n					\n		\n			June 21\n\n		\n	\n	 - \n\n	June 22\n\n	\n				\n				\n				\n				\n							\n			\n						\n		\n						\n				\n				\n				\n									Join us for the 2026 Sand Hollow Resort 100 Hole Tournament! The tournament will take place on Sunday\, June 21st and on Monday\, June 22nd.  								\n				\n				\n				\n									6am Shotgun Start$550 per player\, 2 player teams\, Shamble formatContest HolesBreakfast\, Lunch\, Dinner includedUse code 100HOLES at checkout for 20% off your entire stay with the resort								\n				\n				\n				\n									Cancellations accepted up to June 21st. ($25 processing fee will apply on all refunded cancellations). No refunds for cancellations after 15th.								\n				\n				\n				\n									To join the waitlist\, please call the Pro Shop: 435-656-4653 								\n				\n					\n				\n		\n		\n				\n				\n									Sign Up Today:
URL:https://sandhollowresort.com/event/serpentine-fire-a-tribute-to-earth-wind-and-fire/
LOCATION:The Rock Bowl at Sand Hollow Resort\, 5662 W Clubhouse Dr. Hurricane\, UT 84737\, Hurricane\, UT\, 84737
CATEGORIES:Concert
ATTACH;FMTTYPE=image/png:https://sandhollowresort.com/wp-content/uploads/2026/03/Serpentine-Fire.png
ORGANIZER;CN="Sand Hollow Resort":MAILTO:hello@sandhollowresorts.com
GEO:37.112349;-113.411701
X-APPLE-STRUCTURED-LOCATION;VALUE=URI;X-ADDRESS=The Rock Bowl at Sand Hollow Resort 5662 W Clubhouse Dr. Hurricane UT 84737 Hurricane UT 84737;X-APPLE-RADIUS=500;X-TITLE=5662 W Clubhouse Dr. Hurricane\, UT 84737:geo:-113.411701,37.112349
END:VEVENT
BEGIN:VEVENT
DTSTART;TZID=America/Denver:20260522T193000
DTEND;TZID=America/Denver:20260522T210000
DTSTAMP:20260424T042119
CREATED:20260318T212943Z
LAST-MODIFIED:20260422T221528Z
UID:10001288-1779478200-1779483600@sandhollowresort.com
SUMMARY:Albumpalooza: A Tribute to The Police and U2 live!
DESCRIPTION:100 Hole 2026 Golf Tournament				\n				\n				\n				\n					\n		\n			June 21\n\n		\n	\n	 - \n\n	June 22\n\n	\n				\n				\n				\n				\n							\n			\n						\n		\n						\n				\n				\n				\n									Join us for the 2026 Sand Hollow Resort 100 Hole Tournament! The tournament will take place on Sunday\, June 21st and on Monday\, June 22nd.  								\n				\n				\n				\n									6am Shotgun Start$550 per player\, 2 player teams\, Shamble formatContest HolesBreakfast\, Lunch\, Dinner includedUse code 100HOLES at checkout for 20% off your entire stay with the resort								\n				\n				\n				\n									Cancellations accepted up to June 21st. ($25 processing fee will apply on all refunded cancellations). No refunds for cancellations after 15th.								\n				\n				\n				\n									To join the waitlist\, please call the Pro Shop: 435-656-4653 								\n				\n					\n				\n		\n		\n				\n				\n									Sign Up Today:
URL:https://sandhollowresort.com/event/albumpalooza-a-tribute-to-the-police-and-u2-live/
LOCATION:The Rock Bowl at Sand Hollow Resort\, 5662 W Clubhouse Dr. Hurricane\, UT 84737\, Hurricane\, UT\, 84737
CATEGORIES:Concert
ATTACH;FMTTYPE=image/jpeg:https://sandhollowresort.com/wp-content/uploads/2026/03/Police-U2-Poster-2025-scaled.jpg
ORGANIZER;CN="Sand Hollow Resort":MAILTO:hello@sandhollowresorts.com
GEO:37.112349;-113.411701
X-APPLE-STRUCTURED-LOCATION;VALUE=URI;X-ADDRESS=The Rock Bowl at Sand Hollow Resort 5662 W Clubhouse Dr. Hurricane UT 84737 Hurricane UT 84737;X-APPLE-RADIUS=500;X-TITLE=5662 W Clubhouse Dr. Hurricane\, UT 84737:geo:-113.411701,37.112349
END:VEVENT
BEGIN:VEVENT
DTSTART;VALUE=DATE:20260621
DTEND;VALUE=DATE:20260623
DTSTAMP:20260424T042119
CREATED:20260423T204538Z
LAST-MODIFIED:20260423T205721Z
UID:10001295-1782000000-1782172799@sandhollowresort.com
SUMMARY:100 Hole 2026 Golf Tournament
DESCRIPTION:100 Hole 2026 Golf Tournament				\n				\n				\n				\n					\n		\n			June 21\n\n		\n	\n	 - \n\n	June 22\n\n	\n				\n				\n				\n				\n							\n			\n						\n		\n						\n				\n				\n				\n									Join us for the 2026 Sand Hollow Resort 100 Hole Tournament! The tournament will take place on Sunday\, June 21st and on Monday\, June 22nd.  								\n				\n				\n				\n									6am Shotgun Start$550 per player\, 2 player teams\, Shamble formatContest HolesBreakfast\, Lunch\, Dinner includedUse code 100HOLES at checkout for 20% off your entire stay with the resort								\n				\n				\n				\n									Cancellations accepted up to June 21st. ($25 processing fee will apply on all refunded cancellations). No refunds for cancellations after 15th.								\n				\n				\n				\n									To join the waitlist\, please call the Pro Shop: 435-656-4653 								\n				\n					\n				\n		\n		\n				\n				\n									Sign Up Today:
URL:https://sandhollowresort.com/event/100-hole-2026-golf-tournament/
ATTACH;FMTTYPE=image/jpeg:https://sandhollowresort.com/wp-content/uploads/2026/04/100-Hole-Tournament-Web-Image-2026.jpg
ORGANIZER;CN="Sand Hollow Resort":MAILTO:hello@sandhollowresorts.com
END:VEVENT
BEGIN:VEVENT
DTSTART;TZID=America/Denver:20260904T183000
DTEND;TZID=America/Denver:20260904T200000
DTSTAMP:20260424T042119
CREATED:20260319T175614Z
LAST-MODIFIED:20260422T221536Z
UID:10001289-1788546600-1788552000@sandhollowresort.com
SUMMARY:25 or 6 to Faux: A Tribute to Chicago
DESCRIPTION:100 Hole 2026 Golf Tournament				\n				\n				\n				\n					\n		\n			June 21\n\n		\n	\n	 - \n\n	June 22\n\n	\n				\n				\n				\n				\n							\n			\n						\n		\n						\n				\n				\n				\n									Join us for the 2026 Sand Hollow Resort 100 Hole Tournament! The tournament will take place on Sunday\, June 21st and on Monday\, June 22nd.  								\n				\n				\n				\n									6am Shotgun Start$550 per player\, 2 player teams\, Shamble formatContest HolesBreakfast\, Lunch\, Dinner includedUse code 100HOLES at checkout for 20% off your entire stay with the resort								\n				\n				\n				\n									Cancellations accepted up to June 21st. ($25 processing fee will apply on all refunded cancellations). No refunds for cancellations after 15th.								\n				\n				\n				\n									To join the waitlist\, please call the Pro Shop: 435-656-4653 								\n				\n					\n				\n		\n		\n				\n				\n									Sign Up Today:
URL:https://sandhollowresort.com/event/25-or-6-to-faux-a-tribute-to-chicago-2/
LOCATION:The Rock Bowl at Sand Hollow Resort\, 5662 W Clubhouse Dr. Hurricane\, UT 84737\, Hurricane\, UT\, 84737
CATEGORIES:Concert
ATTACH;FMTTYPE=image/jpeg:https://sandhollowresort.com/wp-content/uploads/2026/03/Chicago-25-or-6-to-Faux-Poster.jpg
ORGANIZER;CN="Sand Hollow Resort":MAILTO:hello@sandhollowresorts.com
GEO:37.112349;-113.411701
X-APPLE-STRUCTURED-LOCATION;VALUE=URI;X-ADDRESS=The Rock Bowl at Sand Hollow Resort 5662 W Clubhouse Dr. Hurricane UT 84737 Hurricane UT 84737;X-APPLE-RADIUS=500;X-TITLE=5662 W Clubhouse Dr. Hurricane\, UT 84737:geo:-113.411701,37.112349
END:VEVENT
BEGIN:VEVENT
DTSTART;TZID=America/Denver:20260911T183000
DTEND;TZID=America/Denver:20260911T200000
DTSTAMP:20260424T042119
CREATED:20260319T181028Z
LAST-MODIFIED:20260422T221545Z
UID:10001290-1789151400-1789156800@sandhollowresort.com
SUMMARY:Amarillo by Morning: George Strait Tribute
DESCRIPTION:100 Hole 2026 Golf Tournament				\n				\n				\n				\n					\n		\n			June 21\n\n		\n	\n	 - \n\n	June 22\n\n	\n				\n				\n				\n				\n							\n			\n						\n		\n						\n				\n				\n				\n									Join us for the 2026 Sand Hollow Resort 100 Hole Tournament! The tournament will take place on Sunday\, June 21st and on Monday\, June 22nd.  								\n				\n				\n				\n									6am Shotgun Start$550 per player\, 2 player teams\, Shamble formatContest HolesBreakfast\, Lunch\, Dinner includedUse code 100HOLES at checkout for 20% off your entire stay with the resort								\n				\n				\n				\n									Cancellations accepted up to June 21st. ($25 processing fee will apply on all refunded cancellations). No refunds for cancellations after 15th.								\n				\n				\n				\n									To join the waitlist\, please call the Pro Shop: 435-656-4653 								\n				\n					\n				\n		\n		\n				\n				\n									Sign Up Today:
URL:https://sandhollowresort.com/event/amarillo-by-morning-george-strait-tribute/
LOCATION:The Rock Bowl at Sand Hollow Resort\, 5662 W Clubhouse Dr. Hurricane\, UT 84737\, Hurricane\, UT\, 84737
CATEGORIES:Concert
ATTACH;FMTTYPE=image/jpeg:https://sandhollowresort.com/wp-content/uploads/2026/03/A-250-HI-REZ-ABM-2026.jpg
ORGANIZER;CN="Sand Hollow Resort":MAILTO:hello@sandhollowresorts.com
GEO:37.112349;-113.411701
X-APPLE-STRUCTURED-LOCATION;VALUE=URI;X-ADDRESS=The Rock Bowl at Sand Hollow Resort 5662 W Clubhouse Dr. Hurricane UT 84737 Hurricane UT 84737;X-APPLE-RADIUS=500;X-TITLE=5662 W Clubhouse Dr. Hurricane\, UT 84737:geo:-113.411701,37.112349
END:VEVENT
BEGIN:VEVENT
DTSTART;TZID=America/Denver:20260918T183000
DTEND;TZID=America/Denver:20260918T200000
DTSTAMP:20260424T042119
CREATED:20260319T181320Z
LAST-MODIFIED:20260422T221554Z
UID:10001291-1789756200-1789761600@sandhollowresort.com
SUMMARY:Noise Pollution: The AC/DC Experience
DESCRIPTION:100 Hole 2026 Golf Tournament				\n				\n				\n				\n					\n		\n			June 21\n\n		\n	\n	 - \n\n	June 22\n\n	\n				\n				\n				\n				\n							\n			\n						\n		\n						\n				\n				\n				\n									Join us for the 2026 Sand Hollow Resort 100 Hole Tournament! The tournament will take place on Sunday\, June 21st and on Monday\, June 22nd.  								\n				\n				\n				\n									6am Shotgun Start$550 per player\, 2 player teams\, Shamble formatContest HolesBreakfast\, Lunch\, Dinner includedUse code 100HOLES at checkout for 20% off your entire stay with the resort								\n				\n				\n				\n									Cancellations accepted up to June 21st. ($25 processing fee will apply on all refunded cancellations). No refunds for cancellations after 15th.								\n				\n				\n				\n									To join the waitlist\, please call the Pro Shop: 435-656-4653 								\n				\n					\n				\n		\n		\n				\n				\n									Sign Up Today:
URL:https://sandhollowresort.com/event/noise-pollution-the-ac-dc-experience/
LOCATION:The Rock Bowl at Sand Hollow Resort\, 5662 W Clubhouse Dr. Hurricane\, UT 84737\, Hurricane\, UT\, 84737
CATEGORIES:Concert
ATTACH;FMTTYPE=image/jpeg:https://sandhollowresort.com/wp-content/uploads/2026/03/ACDC-Tribute.jpg
ORGANIZER;CN="Sand Hollow Resort":MAILTO:hello@sandhollowresorts.com
GEO:37.112349;-113.411701
X-APPLE-STRUCTURED-LOCATION;VALUE=URI;X-ADDRESS=The Rock Bowl at Sand Hollow Resort 5662 W Clubhouse Dr. Hurricane UT 84737 Hurricane UT 84737;X-APPLE-RADIUS=500;X-TITLE=5662 W Clubhouse Dr. Hurricane\, UT 84737:geo:-113.411701,37.112349
END:VEVENT
BEGIN:VEVENT
DTSTART;TZID=America/Denver:20260925T183000
DTEND;TZID=America/Denver:20260925T200000
DTSTAMP:20260424T042119
CREATED:20260319T182027Z
LAST-MODIFIED:20260422T221603Z
UID:10001292-1790361000-1790366400@sandhollowresort.com
SUMMARY:Vegas McGraw: A Tribute to Tim McGraw
DESCRIPTION:100 Hole 2026 Golf Tournament				\n				\n				\n				\n					\n		\n			June 21\n\n		\n	\n	 - \n\n	June 22\n\n	\n				\n				\n				\n				\n							\n			\n						\n		\n						\n				\n				\n				\n									Join us for the 2026 Sand Hollow Resort 100 Hole Tournament! The tournament will take place on Sunday\, June 21st and on Monday\, June 22nd.  								\n				\n				\n				\n									6am Shotgun Start$550 per player\, 2 player teams\, Shamble formatContest HolesBreakfast\, Lunch\, Dinner includedUse code 100HOLES at checkout for 20% off your entire stay with the resort								\n				\n				\n				\n									Cancellations accepted up to June 21st. ($25 processing fee will apply on all refunded cancellations). No refunds for cancellations after 15th.								\n				\n				\n				\n									To join the waitlist\, please call the Pro Shop: 435-656-4653 								\n				\n					\n				\n		\n		\n				\n				\n									Sign Up Today:
URL:https://sandhollowresort.com/event/vegas-mcgraw-a-tribute-to-tim-mcgraw/
LOCATION:The Rock Bowl at Sand Hollow Resort\, 5662 W Clubhouse Dr. Hurricane\, UT 84737\, Hurricane\, UT\, 84737
CATEGORIES:Concert
ATTACH;FMTTYPE=image/jpeg:https://sandhollowresort.com/wp-content/uploads/2026/03/Tim-McGraw-Tribute-Poster.jpg
ORGANIZER;CN="Sand Hollow Resort":MAILTO:hello@sandhollowresorts.com
GEO:37.112349;-113.411701
X-APPLE-STRUCTURED-LOCATION;VALUE=URI;X-ADDRESS=The Rock Bowl at Sand Hollow Resort 5662 W Clubhouse Dr. Hurricane UT 84737 Hurricane UT 84737;X-APPLE-RADIUS=500;X-TITLE=5662 W Clubhouse Dr. Hurricane\, UT 84737:geo:-113.411701,37.112349
END:VEVENT
END:VCALENDAR